2.43840000
0.00000000
0.00000000
-2.43840000
421786.56188636
5108975.65330375
