2.43840000
0.00000000
0.00000000
-2.43840000
450833.19502776
5108672.55844752
