2.43840000
0.00000000
0.00000000
-2.43840000
489557.86986865
5108487.77003456
