2.43840000
0.00000000
0.00000000
-2.43840000
499238.19233822
5205716.63634318
