2.43840000
0.00000000
0.00000000
-2.43840000
508764.44255013
5191849.99723001
