2.43840000
0.00000000
0.00000000
-2.43840000
556387.95155177
5192196.21407951
