2.43840000
0.00000000
0.00000000
-2.43840000
518333.57504681
5177998.84240677
