2.43840000
0.00000000
0.00000000
-2.43840000
547083.87308915
5164316.24450216
