2.43840000
0.00000000
0.00000000
-2.43840000
556651.62614811
5164417.21686238
