2.43840000
0.00000000
0.00000000
-2.43840000
566376.28918947
5150641.52620018
