2.43840000
0.00000000
0.00000000
-2.43840000
528079.02690982
5136384.16715227
