2.43840000
0.00000000
0.00000000
-2.43840000
518508.60218849
5122439.66968555
