2.43840000
0.00000000
0.00000000
-2.43840000
566683.02706711
5122864.36864280
