2.43840000
0.00000000
0.00000000
-2.43840000
518554.46850505
5108552.02169938
