2.43840000
0.00000000
0.00000000
-2.43840000
537864.55550469
5108583.72099685
