2.43840000
0.00000000
0.00000000
-2.43840000
547523.38011725
5108759.53674851
