2.43840000
0.00000000
0.00000000
-2.43840000
641775.69988062
5207667.33155282
