2.43840000
0.00000000
0.00000000
-2.43840000
623057.15995007
5193319.71806896
