2.43840000
0.00000000
0.00000000
-2.43840000
642436.76021764
5179887.51695446
