2.43840000
0.00000000
0.00000000
-2.43840000
594925.55993637
5164968.43118019
