2.43840000
0.00000000
0.00000000
-2.43840000
604494.77161089
5165143.06475066
