2.43840000
0.00000000
0.00000000
-2.43840000
624202.03126898
5137762.82254786
