2.43840000
0.00000000
0.00000000
-2.43840000
586146.11392126
5109252.63489475
