2.43840000
0.00000000
0.00000000
-2.43840000
661529.06593284
5180407.10325713
