2.43840000
0.00000000
0.00000000
-2.43840000
671079.04535576
5180686.79143635
