2.43840000
0.00000000
0.00000000
-2.43840000
671472.85231046
5166798.66113592
