2.43840000
0.00000000
0.00000000
-2.43840000
719314.54450812
5168437.12516435
