2.43840000
0.00000000
0.00000000
-2.43840000
652689.19891881
5152361.55693439
