2.43840000
0.00000000
0.00000000
-2.43840000
671869.60399203
5152912.89279437
