2.43840000
0.00000000
0.00000000
-2.43840000
672265.70074068
5139026.41716884
