2.438400
0
0
-2.438400
681963.775242
5139476.669935
