2.43840000
0.00000000
0.00000000
-2.43840000
710714.91070938
5140307.19614323
