2.43840000
0.00000000
0.00000000
-2.43840000
653389.50931235
5124583.99123089
