2.43840000
0.00000000
0.00000000
-2.43840000
701560.82839705
5126071.38550942
