2.43840000
0.00000000
0.00000000
-2.43840000
711196.36292451
5126414.45612388
