2.43840000
0.00000000
0.00000000
-2.43840000
682709.75735215
5111543.58579188
