2.43840000
0.00000000
0.00000000
-2.43840000
528276.83157133
5094721.26804507
