2.43840000
0.00000000
0.00000000
-2.43840000
528340.45529245
5080832.03822569
