2.43840000
0.00000000
0.00000000
-2.43840000
557568.79248638
5067199.62515415
