2.43840000
0.00000000
0.00000000
-2.43840000
567290.41223872
5067313.67094502
