2.43840000
0.00000000
0.00000000
-2.43840000
499235.34813216
5052939.17697122
