2.43840000
0.00000000
0.00000000
-2.43840000
508980.65828661
5052963.16172410
