2.43840000
0.00000000
0.00000000
-2.43840000
518723.97240505
5053002.34234004
