2.43840000
0.00000000
0.00000000
-2.43840000
499241.48892787
5039050.84332769
