2.43840000
0.00000000
0.00000000
-2.43840000
528530.49489406
5039170.46279686
