2.43840000
0.00000000
0.00000000
-2.43840000
567590.25787948
5039539.03024774
