2.43840000
0.00000000
0.00000000
-2.43840000
499238.15089040
5011276.23867223
