2.43840000
0.00000000
0.00000000
-2.43840000
567896.64246115
5011766.59893486
