2.43840000
0.00000000
0.00000000
-2.43840000
499236.48708599
4997389.95451932
