2.43840000
0.00000000
0.00000000
-2.43840000
596023.53384477
5095523.84150331
